BEGIN:VCALENDAR
VERSION:2.0
PRODID:-//hacksw/handcal//NONSGML v1.0//EN
TZID:Asia/Hong_Kong
BEGIN:VEVENT
DTSTART:20210625T150000z
DTEND:20210625T163000z
SUMMARY:【Go Digital研讨会】专家拆解电商营销策略+货物进出口中国要诀
LOCATION:香港湾仔告士打道160号OTB大厦22楼 
URL:http://www.gs1hk.org/zh-cn/events/gs1hk-hlstla-webinar-china-retail-jun-2021
END:VEVENT
END:VCALENDAR