BEGIN:VCALENDAR
VERSION:2.0
PRODID:-//hacksw/handcal//NONSGML v1.0//EN
TZID:Asia/Hong_Kong
BEGIN:VEVENT
DTSTART:20200812T070000z
DTEND:20200812T090000z
SUMMARY:食品及餐饮业界研讨会 企业「疫」境应对挑战 (2020年8月份)
LOCATION:研讨会将以网上直播形式进行，直播将以电子邮件发送给已登记的参加者。
URL:http://www.gs1hk.org/zh-cn/events/gs1hk-ida-seminar-aug-2020
END:VEVENT
END:VCALENDAR