BEGIN:VCALENDAR
VERSION:2.0
PRODID:-//hacksw/handcal//NONSGML v1.0//EN
TZID:Asia/Hong_Kong
BEGIN:VEVENT
DTSTART:20160606T160000z
DTEND:20160607T160000z
SUMMARY:香港零售管理协会 2016 零售研讨会 - 「卓越零售‧持续成就」
LOCATION:香港会议展览中心
URL:http://www.gs1hk.org/zh-cn/events/hkrma-retailconf-jun-2016
END:VEVENT
END:VCALENDAR