BEGIN:VCALENDAR
VERSION:2.0
PRODID:-//hacksw/handcal//NONSGML v1.0//EN
TZID:Asia/Hong_Kong
BEGIN:VEVENT
DTSTART:20120922T010000z
DTEND:20120925T100000z
SUMMARY:第九届中国国际中小企业博览会-中国中小企业信息化应用服务展
LOCATION:广州琶州国际会议展览中心
URL:http://www.gs1hk.org/zh-cn/events/invitation-22sep2012-25sep-2012
END:VEVENT
END:VCALENDAR