BEGIN:VCALENDAR
VERSION:2.0
PRODID:-//hacksw/handcal//NONSGML v1.0//EN
TZID:Asia/Hong_Kong
BEGIN:VEVENT
DTSTART:20230524T150000z
DTEND:20230524T163000z
SUMMARY:【研讨会】专家教路：利用WhatsApp营销方案及Google提升销售
LOCATION:香港湾仔告士打道160号海外信讬银行大厦22楼
URL:http://www.gs1hk.org/zh-cn/events/seminar-20230524
END:VEVENT
END:VCALENDAR