BEGIN:VCALENDAR
VERSION:2.0
PRODID:-//hacksw/handcal//NONSGML v1.0//EN
TZID:Asia/Hong_Kong
BEGIN:VEVENT
DTSTART:20250320T150000z
DTEND:20250320T170000z
SUMMARY:【研讨会】零售业华丽转型：善用亚马逊平台 拓展海外商机
LOCATION:香港湾仔告士打道160号海外信讬银行大厦22楼
URL:http://www.gs1hk.org/zh-cn/events/seminar-20250320
END:VEVENT
END:VCALENDAR