BEGIN:VCALENDAR
VERSION:2.0
PRODID:-//hacksw/handcal//NONSGML v1.0//EN
TZID:Asia/Hong_Kong
BEGIN:VEVENT
DTSTART:20180329T063000z
DTEND:20180329T093000z
SUMMARY:Hong Kong ICT Awards 2018: Smart Mobility Award, Smart People Award & Smart Lifestyle Award  Joint Awards Presentation Ceremony
LOCATION:IT street, Core E, Cyberport 3,100 Cyberport Road, Hong Kong
URL:http://www.gs1hk.org/zh-cn/events/smart-mobility-award-ceremony-2018
END:VEVENT
END:VCALENDAR