BEGIN:VCALENDAR
VERSION:2.0
PRODID:-//hacksw/handcal//NONSGML v1.0//EN
TZID:Asia/Hong_Kong
BEGIN:VEVENT
DTSTART:20171211T073000z
DTEND:20171211T091500z
SUMMARY:香港特别行政区  政府信息及通讯科技奬2018 - 智能出行奖研讨会 II
LOCATION:数码港道100号数码港3座E座4楼智能空间金融科技多功能厅
URL:http://www.gs1hk.org/zh-cn/events/smart-mobility-award-information-session-dec
END:VEVENT
END:VCALENDAR