BEGIN:VCALENDAR
VERSION:2.0
PRODID:-//hacksw/handcal//NONSGML v1.0//EN
TZID:Asia/Hong_Kong
BEGIN:VEVENT
DTSTART:20190822T060000z
DTEND:20190822T090000z
SUMMARY:智慧零售讲座
LOCATION:香港湾仔告士打道160号海外信托银行大厦22楼
URL:http://www.gs1hk.org/zh-cn/events/smart-retail-seminar-aug-2019
END:VEVENT
END:VCALENDAR