BEGIN:VCALENDAR
VERSION:2.0
PRODID:-//hacksw/handcal//NONSGML v1.0//EN
TZID:Asia/Hong_Kong
BEGIN:VEVENT
DTSTART:20130916T010000z
DTEND:20131031T113000z
SUMMARY:The CILT Award 2013
LOCATION:--
URL:http://www.gs1hk.org/zh-cn/events/the-cilt-award-16-sep-2013
END:VEVENT
END:VCALENDAR