BEGIN:VCALENDAR
VERSION:2.0
PRODID:-//hacksw/handcal//NONSGML v1.0//EN
TZID:Asia/Hong_Kong
BEGIN:VEVENT
DTSTART:20140819T070000z
DTEND:20140819T090000z
SUMMARY:智「食」相传交互式工作坊
LOCATION:香港九龙长沙湾荔枝角道757号3楼
URL:http://www.gs1hk.org/zh-cn/events/tid-foodsupplychain-workshop-19-aug-2014
END:VEVENT
END:VCALENDAR