BEGIN:VCALENDAR
VERSION:2.0
PRODID:-//hacksw/handcal//NONSGML v1.0//EN
TZID:Asia/Hong_Kong
BEGIN:VEVENT
DTSTART:20241119T141500z
DTEND:20241120T153000z
SUMMARY:亞洲物流航運及空運會議 | 供應鏈管理及物流論壇 II - 智能供應鏈締造新機遇
LOCATION:Leadership Hub，香港會議展覽中心展覽廳3FG
URL:http://www.gs1hk.org/zh-hk/ALMAC2024-SCM%26LogisticsForum-2
END:VEVENT
END:VCALENDAR