BEGIN:VCALENDAR
VERSION:2.0
PRODID:-//hacksw/handcal//NONSGML v1.0//EN
TZID:Asia/Hong_Kong
BEGIN:VEVENT
DTSTART:20220524T160000z
DTEND:20220524T170000z
SUMMARY:2022 香港資訊及通訊科技獎：「智慧出行獎」簡介會
LOCATION:GS1 HK 辦公室 / 網上進行
URL:http://www.gs1hk.org/zh-hk/event/ICT-Award-briefing-2022
END:VEVENT
END:VCALENDAR