BEGIN:VCALENDAR
VERSION:2.0
PRODID:-//hacksw/handcal//NONSGML v1.0//EN
TZID:Asia/Hong_Kong
BEGIN:VEVENT
DTSTART:20220324T100000z
DTEND:20220324T110000z
SUMMARY:【免費研討會】專家拆解善用物聯網　提升食品行業績效大法
LOCATION:ZOOM網上參與
URL:http://www.gs1hk.org/zh-hk/event/Iotfood_webinar_Mar_2022
END:VEVENT
END:VCALENDAR