BEGIN:VCALENDAR
VERSION:2.0
PRODID:-//hacksw/handcal//NONSGML v1.0//EN
TZID:Asia/Hong_Kong
BEGIN:VEVENT
DTSTART:20241120T143000z
DTEND:20241120T171500z
SUMMARY:Navigating Towards Smart Logistics 3.0 – Innovating for Sustainable Shipping, Logistics & Supply Chain
LOCATION:HKTDC SME Centre, Ground Level, Hong Kong Convention and Exhibition Centre, 1 Expo Drive, Wan Chai, H.K.
URL:http://www.gs1hk.org/zh-hk/events/Navigating-Towards-Smart-Logistics-3.0
END:VEVENT
END:VCALENDAR