BEGIN:VCALENDAR
VERSION:2.0
PRODID:-//hacksw/handcal//NONSGML v1.0//EN
TZID:Asia/Hong_Kong
BEGIN:VEVENT
DTSTART:20220125T100000z
DTEND:20220125T113000z
SUMMARY:【智慧物流】物聯網+智慧機械人 全面提升供應鏈效率
LOCATION:以ZOOM網上參與*
URL:http://www.gs1hk.org/zh-hk/events/Smart-Logistics-Webinar-jan-2022
END:VEVENT
END:VCALENDAR