BEGIN:VCALENDAR
VERSION:2.0
PRODID:-//hacksw/handcal//NONSGML v1.0//EN
TZID:Asia/Hong_Kong
BEGIN:VEVENT
DTSTART:20130613T060000z
DTEND:20130613T100000z
SUMMARY:香港貨品編碼協會條碼進階課程
LOCATION:灣仔告士打道160號海外信託銀行大廈
URL:http://www.gs1hk.org/zh-hk/events/advanced-barcode-workshop-jun-2014
END:VEVENT
END:VCALENDAR