BEGIN:VCALENDAR
VERSION:2.0
PRODID:-//hacksw/handcal//NONSGML v1.0//EN
TZID:Asia/Hong_Kong
BEGIN:VEVENT
DTSTART:20140319T070000z
DTEND:20140319T090000z
SUMMARY:BUD 基金申請分享會
LOCATION:香港北角百福道21號香港青年協會大廈
URL:http://www.gs1hk.org/zh-hk/events/bud-fund-seminar
END:VEVENT
END:VCALENDAR