BEGIN:VCALENDAR
VERSION:2.0
PRODID:-//hacksw/handcal//NONSGML v1.0//EN
TZID:Asia/Hong_Kong
BEGIN:VEVENT
DTSTART:20161012T011500z
DTEND:20161012T100000z
SUMMARY:新中國食安法規範及攻略: 你認識多少?
LOCATION:香港灣仔告士打道160號海外信託銀行大廈
URL:http://www.gs1hk.org/zh-hk/events/chinafoodlaw-compliance-oct-2016
END:VEVENT
END:VCALENDAR