BEGIN:VCALENDAR
VERSION:2.0
PRODID:-//hacksw/handcal//NONSGML v1.0//EN
TZID:Asia/Hong_Kong
BEGIN:VEVENT
DTSTART:20190924T070000z
DTEND:20190924T090000z
SUMMARY:商業設計思維工作坊
LOCATION:香港貨品編碼協會辦公室 – 灣仔告士打道160號海外信託銀行大廈22樓 
URL:http://www.gs1hk.org/zh-hk/events/design-thinking-workshop-sep-2019
END:VEVENT
END:VCALENDAR