BEGIN:VCALENDAR
VERSION:2.0
PRODID:-//hacksw/handcal//NONSGML v1.0//EN
TZID:Asia/Hong_Kong
BEGIN:VEVENT
DTSTART:20160126T060000z
DTEND:20160126T090000z
SUMMARY:《中國食安法》最新修訂 — 你的挑戰與機遇?
LOCATION:灣仔告士打道160號海外信託銀行大廈
URL:http://www.gs1hk.org/zh-hk/events/food-industry-seminar-jan-2016
END:VEVENT
END:VCALENDAR