BEGIN:VCALENDAR
VERSION:2.0
PRODID:-//hacksw/handcal//NONSGML v1.0//EN
TZID:Asia/Hong_Kong
BEGIN:VEVENT
DTSTART:20120907T063000z
DTEND:20120907T093000z
SUMMARY:香港貨品編碼協會B2C流動通訊應用工作坊
LOCATION:灣仔告士打道160號海外信託銀行大廈22樓香港貨品編碼協會會議室
URL:http://www.gs1hk.org/zh-hk/events/gs1-hong-kong-b2c-mobile-application-workshop-7sep-2012
END:VEVENT
END:VCALENDAR