BEGIN:VCALENDAR
VERSION:2.0
PRODID:-//hacksw/handcal//NONSGML v1.0//EN
TZID:Asia/Hong_Kong
BEGIN:VEVENT
DTSTART:20201027T143000z
DTEND:20201027T160000z
SUMMARY:投資推廣署網絡研討會 :「碼」上營銷 + 電子商貿 = 無限商機
LOCATION:網絡研討會
URL:http://www.gs1hk.org/zh-hk/events/gs1hk-investhk-jb.com-webinar-oct-2020
END:VEVENT
END:VCALENDAR