BEGIN:VCALENDAR
VERSION:2.0
PRODID:-//hacksw/handcal//NONSGML v1.0//EN
TZID:Asia/Hong_Kong
BEGIN:VEVENT
DTSTART:20160606T160000z
DTEND:20160607T160000z
SUMMARY:香港零售管理協會 2016 零售研討會 - 「卓越零售‧持續成就」
LOCATION:香港會議展覽中心
URL:http://www.gs1hk.org/zh-hk/events/hkrma-retailconf-jun-2016
END:VEVENT
END:VCALENDAR