BEGIN:VCALENDAR
VERSION:2.0
PRODID:-//hacksw/handcal//NONSGML v1.0//EN
TZID:Asia/Hong_Kong
BEGIN:VEVENT
DTSTART:20160720T013000z
DTEND:20160726T090000z
SUMMARY:供應鏈完善程度培訓課程 (2016年7月份)
LOCATION:香港灣仔活道27號職業訓練局大樓9樓
URL:http://www.gs1hk.org/zh-hk/events/scm-maturity-training-jul-2016
END:VEVENT
END:VCALENDAR