BEGIN:VCALENDAR
VERSION:2.0
PRODID:-//hacksw/handcal//NONSGML v1.0//EN
TZID:Asia/Hong_Kong
BEGIN:VEVENT
DTSTART:20250320T150000z
DTEND:20250320T170000z
SUMMARY:【研討會】零售業華麗轉型：善用亞馬遜平台 拓展海外商機
LOCATION:香港灣仔告士打道160號海外信託銀行大廈22樓
URL:http://www.gs1hk.org/zh-hk/events/seminar-20250320
END:VEVENT
END:VCALENDAR