BEGIN:VCALENDAR
VERSION:2.0
PRODID:-//hacksw/handcal//NONSGML v1.0//EN
TZID:Asia/Hong_Kong
BEGIN:VEVENT
DTSTART:20160505T010000z
DTEND:20160507T090000z
SUMMARY:SIAL China 2016 (中食展)
LOCATION:上海市龍陽路2345號南大廳1號口
URL:http://www.gs1hk.org/zh-hk/events/sial-china-2016
END:VEVENT
END:VCALENDAR