BEGIN:VCALENDAR
VERSION:2.0
PRODID:-//hacksw/handcal//NONSGML v1.0//EN
TZID:Asia/Hong_Kong
BEGIN:VEVENT
DTSTART:20171211T073000z
DTEND:20171211T091500z
SUMMARY:香港特別行政區  政府資訊及通訊科技奬2018 - 智慧出行獎研討會 II
LOCATION:數碼港道100號數碼港3座E座4樓智能空間金融科技多功能廳
URL:http://www.gs1hk.org/zh-hk/events/smart-mobility-award-information-session-dec
END:VEVENT
END:VCALENDAR