BEGIN:VCALENDAR
VERSION:2.0
PRODID:-//hacksw/handcal//NONSGML v1.0//EN
TZID:Asia/Hong_Kong
BEGIN:VEVENT
DTSTART:20190822T060000z
DTEND:20190822T090000z
SUMMARY:智慧零售講座
LOCATION:香港九龍達之路78號生產力大樓1樓演講廳二
URL:http://www.gs1hk.org/zh-hk/events/smart-retail-seminar-aug-2019
END:VEVENT
END:VCALENDAR