BEGIN:VCALENDAR
VERSION:2.0
PRODID:-//hacksw/handcal//NONSGML v1.0//EN
TZID:Asia/Hong_Kong
BEGIN:VEVENT
DTSTART:20161114T110000z
DTEND:20161114T133000z
SUMMARY:數碼社區聚腳點 4.0:  O2O用家互動與社群深耕
LOCATION:Missolink Co-working Space,Kwun Tong, Hong Kong
URL:http://www.gs1hk.org/zh-hk/node/6173
END:VEVENT
END:VCALENDAR