BEGIN:VCALENDAR
VERSION:2.0
PRODID:-//hacksw/handcal//NONSGML v1.0//EN
TZID:Asia/Hong_Kong
BEGIN:VEVENT
DTSTART:20260609T093000z
DTEND:20260610T173000z
SUMMARY:【供應鏈認證課程】SCM5.0 – 綠色供應鏈，從數碼化到可持續發展
LOCATION:香港灣仔告士打道160號海外信託銀行大廈22樓
URL:http://www.gs1hk.org/zh-hk/events/supply-chain-certification-20250513
END:VEVENT
END:VCALENDAR